Package: hypeR Version: 2.2.0 Command: /Library/Frameworks/R.framework/Resources/bin/R CMD build --keep-empty-dirs --no-resave-data hypeR StartedAt: 2024-10-17 02:32:32 -0400 (Thu, 17 Oct 2024) EndedAt: 2024-10-17 02:32:51 -0400 (Thu, 17 Oct 2024) EllapsedTime: 19.2 seconds RetCode: 0 Status: OK PackageFile: hypeR_2.2.0.tar.gz PackageFileSize: 316.5 KiB