Package: hypeR Version: 2.2.0 Command: rm -rf hypeR.buildbin-libdir && mkdir hypeR.buildbin-libdir && /Users/biocbuild/BBS/utils/build-universal.sh hypeR_2.2.0.tar.gz /Library/Frameworks/R.framework/Resources/bin/R hypeR.buildbin-libdir StartedAt: 2024-06-10 00:22:42 -0400 (Mon, 10 Jun 2024) EndedAt: 2024-06-10 00:22:58 -0400 (Mon, 10 Jun 2024) EllapsedTime: 16.0 seconds RetCode: 0 Status: OK PackageFile: hypeR_2.2.0.tgz PackageFileSize: 593.2 KiB