Package: hypeR Version: 2.2.0 Command: /Library/Frameworks/R.framework/Resources/bin/R CMD build --keep-empty-dirs --no-resave-data hypeR StartedAt: 2024-06-09 16:58:42 -0400 (Sun, 09 Jun 2024) EndedAt: 2024-06-09 16:59:00 -0400 (Sun, 09 Jun 2024) EllapsedTime: 18.0 seconds RetCode: 0 Status: OK PackageFile: hypeR_2.2.0.tar.gz PackageFileSize: 316.4 KiB