Package: hypeR Version: 2.2.0 Command: /Library/Frameworks/R.framework/Resources/bin/R CMD check --install=check:hypeR.install-out.txt --library=/Library/Frameworks/R.framework/Resources/library --no-vignettes --timings hypeR_2.2.0.tar.gz StartedAt: 2024-06-09 20:57:46 -0400 (Sun, 09 Jun 2024) EndedAt: 2024-06-09 21:01:00 -0400 (Sun, 09 Jun 2024) EllapsedTime: 194.4 seconds RetCode: 0 Status: WARNINGS CheckDir: hypeR.Rcheck Warnings: 2