Package: hypeR Version: 2.2.0 Command: /Library/Frameworks/R.framework/Resources/bin/R CMD INSTALL hypeR StartedAt: 2024-06-09 15:39:42 -0400 (Sun, 09 Jun 2024) EndedAt: 2024-06-09 15:39:55 -0400 (Sun, 09 Jun 2024) EllapsedTime: 12.7 seconds RetCode: 0 Status: OK