Package: hypeR Version: 2.2.0 Command: rm -rf hypeR.buildbin-libdir && mkdir hypeR.buildbin-libdir && /Users/biocbuild/BBS/utils/build-universal.sh hypeR_2.2.0.tar.gz /Library/Frameworks/R.framework/Resources/bin/R hypeR.buildbin-libdir StartedAt: 2024-10-17 16:22:30 -0400 (Thu, 17 Oct 2024) EndedAt: 2024-10-17 16:22:55 -0400 (Thu, 17 Oct 2024) EllapsedTime: 24.9 seconds RetCode: 0 Status: OK PackageFile: hypeR_2.2.0.tgz PackageFileSize: 595.4 KiB