Package: hypeR Version: 2.2.0 Command: /Library/Frameworks/R.framework/Resources/bin/R CMD INSTALL hypeR StartedAt: 2024-10-16 16:42:01 -0400 (Wed, 16 Oct 2024) EndedAt: 2024-10-16 16:42:23 -0400 (Wed, 16 Oct 2024) EllapsedTime: 22.7 seconds RetCode: 0 Status: OK