Package: hypeR Version: 2.2.0 Command: rm -rf hypeR.buildbin-libdir && mkdir hypeR.buildbin-libdir && F:\biocbuild\bbs-3.19-bioc\R\bin\R.exe CMD INSTALL --build --library=hypeR.buildbin-libdir hypeR_2.2.0.tar.gz StartedAt: 2024-06-27 08:21:49 -0400 (Thu, 27 Jun 2024) EndedAt: 2024-06-27 08:22:11 -0400 (Thu, 27 Jun 2024) EllapsedTime: 21.5 seconds RetCode: 0 Status: OK PackageFile: hypeR_2.2.0.zip PackageFileSize: 601.3 KiB