Package: hypeR Version: 2.2.0 Command: chmod a+r hypeR -R && F:\biocbuild\bbs-3.19-bioc\R\bin\R.exe CMD build --keep-empty-dirs --no-resave-data hypeR StartedAt: 2024-06-26 19:30:50 -0400 (Wed, 26 Jun 2024) EndedAt: 2024-06-26 19:31:16 -0400 (Wed, 26 Jun 2024) EllapsedTime: 26.1 seconds RetCode: 0 Status: OK PackageFile: hypeR_2.2.0.tar.gz PackageFileSize: 316.5 KiB