Package: hypeR Version: 2.2.0 Command: rm -rf hypeR.buildbin-libdir && mkdir hypeR.buildbin-libdir && E:\biocbuild\bbs-3.19-bioc\R\bin\R.exe CMD INSTALL --build --library=hypeR.buildbin-libdir hypeR_2.2.0.tar.gz StartedAt: 2024-10-17 07:58:18 -0400 (Thu, 17 Oct 2024) EndedAt: 2024-10-17 07:58:40 -0400 (Thu, 17 Oct 2024) EllapsedTime: 22.0 seconds RetCode: 0 Status: OK PackageFile: hypeR_2.2.0.zip PackageFileSize: 603.4 KiB