Package: hypeR Version: 2.2.0 Command: chmod a+r hypeR -R && E:\biocbuild\bbs-3.19-bioc\R\bin\R.exe CMD build --keep-empty-dirs --no-resave-data hypeR StartedAt: 2024-10-16 19:44:53 -0400 (Wed, 16 Oct 2024) EndedAt: 2024-10-16 19:45:19 -0400 (Wed, 16 Oct 2024) EllapsedTime: 26.0 seconds RetCode: 0 Status: OK PackageFile: hypeR_2.2.0.tar.gz PackageFileSize: 316.5 KiB