Package: hyperdraw Version: 1.56.0 Command: F:\biocbuild\bbs-3.19-bioc\R\bin\R.exe CMD check --no-multiarch --install=check:hyperdraw.install-out.txt --library=F:\biocbuild\bbs-3.19-bioc\R\library --no-vignettes --timings hyperdraw_1.56.0.tar.gz StartedAt: 2024-06-27 02:40:48 -0400 (Thu, 27 Jun 2024) EndedAt: 2024-06-27 02:41:31 -0400 (Thu, 27 Jun 2024) EllapsedTime: 42.8 seconds RetCode: 0 Status: OK CheckDir: hyperdraw.Rcheck Warnings: 0