Package: hyperdraw Version: 1.56.0 Command: rm -rf hyperdraw.buildbin-libdir && mkdir hyperdraw.buildbin-libdir && E:\biocbuild\bbs-3.19-bioc\R\bin\R.exe CMD INSTALL --build --library=hyperdraw.buildbin-libdir hyperdraw_1.56.0.tar.gz StartedAt: 2024-10-17 07:58:20 -0400 (Thu, 17 Oct 2024) EndedAt: 2024-10-17 07:58:45 -0400 (Thu, 17 Oct 2024) EllapsedTime: 25.3 seconds RetCode: 0 Status: OK PackageFile: hyperdraw_1.56.0.zip PackageFileSize: 278.8 KiB