Package: hyperdraw Version: 1.56.0 Command: E:\biocbuild\bbs-3.19-bioc\R\bin\R.exe CMD INSTALL hyperdraw StartedAt: 2024-10-16 16:25:41 -0400 (Wed, 16 Oct 2024) EndedAt: 2024-10-16 16:25:54 -0400 (Wed, 16 Oct 2024) EllapsedTime: 12.4 seconds RetCode: 0 Status: OK