Package: iCARE Version: 1.32.0 Command: /Library/Frameworks/R.framework/Resources/bin/R CMD check --install=check:iCARE.install-out.txt --library=/Library/Frameworks/R.framework/Resources/library --no-vignettes --timings iCARE_1.32.0.tar.gz StartedAt: 2024-10-18 00:51:15 -0400 (Fri, 18 Oct 2024) EndedAt: 2024-10-18 00:53:00 -0400 (Fri, 18 Oct 2024) EllapsedTime: 105.4 seconds RetCode: 0 Status: WARNINGS CheckDir: iCARE.Rcheck Warnings: 2