Package: iCARE Version: 1.32.0 Command: /Library/Frameworks/R.framework/Resources/bin/R CMD INSTALL iCARE StartedAt: 2024-10-16 17:32:34 -0400 (Wed, 16 Oct 2024) EndedAt: 2024-10-16 17:32:43 -0400 (Wed, 16 Oct 2024) EllapsedTime: 9.2 seconds RetCode: 0 Status: OK