Package: iCARE Version: 1.32.0 Command: rm -rf iCARE.buildbin-libdir && mkdir iCARE.buildbin-libdir && /Users/biocbuild/BBS/utils/build-universal.sh iCARE_1.32.0.tar.gz /Library/Frameworks/R.framework/Resources/bin/R iCARE.buildbin-libdir StartedAt: 2024-06-10 00:22:49 -0400 (Mon, 10 Jun 2024) EndedAt: 2024-06-10 00:23:03 -0400 (Mon, 10 Jun 2024) EllapsedTime: 14.9 seconds RetCode: 0 Status: OK PackageFile: iCARE_1.32.0.tgz PackageFileSize: 1.506 MiB