Package: iCARE Version: 1.32.0 Command: /Library/Frameworks/R.framework/Resources/bin/R CMD check --install=check:iCARE.install-out.txt --library=/Library/Frameworks/R.framework/Resources/library --no-vignettes --timings iCARE_1.32.0.tar.gz StartedAt: 2024-06-09 20:58:20 -0400 (Sun, 09 Jun 2024) EndedAt: 2024-06-09 21:00:00 -0400 (Sun, 09 Jun 2024) EllapsedTime: 99.7 seconds RetCode: 0 Status: WARNINGS CheckDir: iCARE.Rcheck Warnings: 1