Package: iCARE Version: 1.32.0 Command: F:\biocbuild\bbs-3.19-bioc\R\bin\R.exe CMD check --no-multiarch --install=check:iCARE.install-out.txt --library=F:\biocbuild\bbs-3.19-bioc\R\library --no-vignettes --timings iCARE_1.32.0.tar.gz StartedAt: 2024-06-27 02:41:33 -0400 (Thu, 27 Jun 2024) EndedAt: 2024-06-27 02:43:30 -0400 (Thu, 27 Jun 2024) EllapsedTime: 116.8 seconds RetCode: 0 Status: WARNINGS CheckDir: iCARE.Rcheck Warnings: 1