Package: iCNV Version: 1.24.0 Command: rm -rf iCNV.buildbin-libdir && mkdir iCNV.buildbin-libdir && /Users/biocbuild/BBS/utils/build-universal.sh iCNV_1.24.0.tar.gz /Library/Frameworks/R.framework/Resources/bin/R iCNV.buildbin-libdir StartedAt: 2024-06-11 11:38:36 -0400 (Tue, 11 Jun 2024) EndedAt: 2024-06-11 11:39:47 -0400 (Tue, 11 Jun 2024) EllapsedTime: 71.9 seconds RetCode: 0 Status: OK PackageFile: iCNV_1.24.0.tgz PackageFileSize: 2.433 MiB