Package: iCNV Version: 1.24.0 Command: /Library/Frameworks/R.framework/Resources/bin/R CMD build --keep-empty-dirs --no-resave-data iCNV StartedAt: 2024-06-09 23:04:08 -0400 (Sun, 09 Jun 2024) EndedAt: 2024-06-09 23:07:08 -0400 (Sun, 09 Jun 2024) EllapsedTime: 180.1 seconds RetCode: 0 Status: OK PackageFile: iCNV_1.24.0.tar.gz PackageFileSize: 2.361 MiB