Package: iCNV Version: 1.24.0 Command: /Library/Frameworks/R.framework/Resources/bin/R CMD INSTALL iCNV StartedAt: 2024-06-09 15:23:23 -0400 (Sun, 09 Jun 2024) EndedAt: 2024-06-09 15:24:07 -0400 (Sun, 09 Jun 2024) EllapsedTime: 44.0 seconds RetCode: 0 Status: OK