Package: iCNV Version: 1.24.0 Command: /Library/Frameworks/R.framework/Resources/bin/R CMD check --install=check:iCNV.install-out.txt --library=/Library/Frameworks/R.framework/Resources/library --no-vignettes --timings iCNV_1.24.0.tar.gz StartedAt: 2024-10-17 06:52:40 -0400 (Thu, 17 Oct 2024) EndedAt: 2024-10-17 07:01:34 -0400 (Thu, 17 Oct 2024) EllapsedTime: 534.1 seconds RetCode: 0 Status: WARNINGS CheckDir: iCNV.Rcheck Warnings: 1