Package: iChip Version: 1.58.0 Maintainer: Qianxing Mo MaintainerEmail: qianxing.mo at moffitt.org git_url: https://git.bioconductor.org/packages/iChip git_branch: RELEASE_3_19 git_last_commit: 4eb4d7c git_last_commit_date: 2024-04-30 10:21:15 -0400 (Tue, 30 Apr 2024)