Package: iChip Version: 1.58.0 Command: rm -rf iChip.buildbin-libdir && mkdir iChip.buildbin-libdir && /Users/biocbuild/BBS/utils/build-universal.sh iChip_1.58.0.tar.gz /Library/Frameworks/R.framework/Resources/bin/R iChip.buildbin-libdir StartedAt: 2024-10-17 16:22:50 -0400 (Thu, 17 Oct 2024) EndedAt: 2024-10-17 16:23:01 -0400 (Thu, 17 Oct 2024) EllapsedTime: 10.9 seconds RetCode: 0 Status: OK PackageFile: iChip_1.58.0.tgz PackageFileSize: 1.935 MiB