Package: iChip Version: 1.58.0 Command: rm -rf iChip.buildbin-libdir && mkdir iChip.buildbin-libdir && F:\biocbuild\bbs-3.19-bioc\R\bin\R.exe CMD INSTALL --build --library=iChip.buildbin-libdir iChip_1.58.0.tar.gz StartedAt: 2024-06-27 08:22:09 -0400 (Thu, 27 Jun 2024) EndedAt: 2024-06-27 08:22:41 -0400 (Thu, 27 Jun 2024) EllapsedTime: 32.1 seconds RetCode: 0 Status: OK PackageFile: iChip_1.58.0.zip PackageFileSize: 1.809 MiB