Package: iGC Version: 1.34.0 Command: /Library/Frameworks/R.framework/Resources/bin/R CMD check --install=check:iGC.install-out.txt --library=/Library/Frameworks/R.framework/Resources/library --no-vignettes --timings iGC_1.34.0.tar.gz StartedAt: 2024-10-18 00:58:11 -0400 (Fri, 18 Oct 2024) EndedAt: 2024-10-18 00:58:49 -0400 (Fri, 18 Oct 2024) EllapsedTime: 38.0 seconds RetCode: 0 Status: OK CheckDir: iGC.Rcheck Warnings: 0