Package: iGC Version: 1.34.0 Command: /Library/Frameworks/R.framework/Resources/bin/R CMD INSTALL iGC StartedAt: 2024-10-16 15:07:50 -0400 (Wed, 16 Oct 2024) EndedAt: 2024-10-16 15:08:30 -0400 (Wed, 16 Oct 2024) EllapsedTime: 40.2 seconds RetCode: 0 Status: OK