Package: iPAC Version: 1.48.0 Command: /Library/Frameworks/R.framework/Resources/bin/R CMD check --install=check:iPAC.install-out.txt --library=/Library/Frameworks/R.framework/Resources/library --no-vignettes --timings iPAC_1.48.0.tar.gz StartedAt: 2024-06-10 19:27:30 -0400 (Mon, 10 Jun 2024) EndedAt: 2024-06-10 19:33:47 -0400 (Mon, 10 Jun 2024) EllapsedTime: 377.8 seconds RetCode: 0 Status: OK CheckDir: iPAC.Rcheck Warnings: 0