Package: iPAC Version: 1.48.0 Command: /Library/Frameworks/R.framework/Resources/bin/R CMD INSTALL iPAC StartedAt: 2024-06-09 17:01:47 -0400 (Sun, 09 Jun 2024) EndedAt: 2024-06-09 17:02:06 -0400 (Sun, 09 Jun 2024) EllapsedTime: 19.2 seconds RetCode: 0 Status: OK