Package: iPAC Version: 1.48.0 Command: rm -rf iPAC.buildbin-libdir && mkdir iPAC.buildbin-libdir && /Users/biocbuild/BBS/utils/build-universal.sh iPAC_1.48.0.tar.gz /Library/Frameworks/R.framework/Resources/bin/R iPAC.buildbin-libdir StartedAt: 2024-06-10 00:23:25 -0400 (Mon, 10 Jun 2024) EndedAt: 2024-06-10 00:23:47 -0400 (Mon, 10 Jun 2024) EllapsedTime: 21.5 seconds RetCode: 0 Status: OK PackageFile: iPAC_1.48.0.tgz PackageFileSize: 556.2 KiB