Package: iPAC Version: 1.48.0 Command: /Library/Frameworks/R.framework/Resources/bin/R CMD build --keep-empty-dirs --no-resave-data iPAC StartedAt: 2024-06-09 17:02:35 -0400 (Sun, 09 Jun 2024) EndedAt: 2024-06-09 17:02:58 -0400 (Sun, 09 Jun 2024) EllapsedTime: 23.5 seconds RetCode: 0 Status: OK PackageFile: iPAC_1.48.0.tar.gz PackageFileSize: 618.7 KiB