Package: iPAC Version: 1.48.0 Command: rm -rf iPAC.buildbin-libdir && mkdir iPAC.buildbin-libdir && /Users/biocbuild/BBS/utils/build-universal.sh iPAC_1.48.0.tar.gz /Library/Frameworks/R.framework/Resources/bin/R iPAC.buildbin-libdir StartedAt: 2024-10-17 16:24:43 -0400 (Thu, 17 Oct 2024) EndedAt: 2024-10-17 16:25:59 -0400 (Thu, 17 Oct 2024) EllapsedTime: 75.6 seconds RetCode: 0 Status: OK PackageFile: iPAC_1.48.0.tgz PackageFileSize: 557.1 KiB