Package: iPAC Version: 1.48.0 Command: /Library/Frameworks/R.framework/Resources/bin/R CMD build --keep-empty-dirs --no-resave-data iPAC StartedAt: 2024-10-16 20:14:51 -0400 (Wed, 16 Oct 2024) EndedAt: 2024-10-16 20:15:46 -0400 (Wed, 16 Oct 2024) EllapsedTime: 55.2 seconds RetCode: 0 Status: OK PackageFile: iPAC_1.48.0.tar.gz PackageFileSize: 619.5 KiB