Package: iPAC Version: 1.48.0 Command: /Library/Frameworks/R.framework/Resources/bin/R CMD check --install=check:iPAC.install-out.txt --library=/Library/Frameworks/R.framework/Resources/library --no-vignettes --timings iPAC_1.48.0.tar.gz StartedAt: 2024-10-17 07:04:47 -0400 (Thu, 17 Oct 2024) EndedAt: 2024-10-17 07:16:06 -0400 (Thu, 17 Oct 2024) EllapsedTime: 679.1 seconds RetCode: 0 Status: OK CheckDir: iPAC.Rcheck Warnings: 0