Package: iPAC Version: 1.48.0 Command: /Library/Frameworks/R.framework/Resources/bin/R CMD INSTALL iPAC StartedAt: 2024-10-16 16:24:54 -0400 (Wed, 16 Oct 2024) EndedAt: 2024-10-16 16:25:29 -0400 (Wed, 16 Oct 2024) EllapsedTime: 34.6 seconds RetCode: 0 Status: OK