Package: iPAC Version: 1.48.0 Command: /home/biocbuild/bbs-3.19-bioc/R/bin/R CMD build --keep-empty-dirs --no-resave-data iPAC StartedAt: 2024-10-16 19:06:15 -0400 (Wed, 16 Oct 2024) EndedAt: 2024-10-16 19:06:32 -0400 (Wed, 16 Oct 2024) EllapsedTime: 17.0 seconds RetCode: 0 Status: OK PackageFile: iPAC_1.48.0.tar.gz PackageFileSize: 448.3 KiB