Package: iPAC Version: 1.48.0 Command: F:\biocbuild\bbs-3.19-bioc\R\bin\R.exe CMD check --no-multiarch --install=check:iPAC.install-out.txt --library=F:\biocbuild\bbs-3.19-bioc\R\library --no-vignettes --timings iPAC_1.48.0.tar.gz StartedAt: 2024-06-27 02:50:47 -0400 (Thu, 27 Jun 2024) EndedAt: 2024-06-27 02:54:59 -0400 (Thu, 27 Jun 2024) EllapsedTime: 252.9 seconds RetCode: 0 Status: OK CheckDir: iPAC.Rcheck Warnings: 0