Package: iPAC Version: 1.48.0 Command: rm -rf iPAC.buildbin-libdir && mkdir iPAC.buildbin-libdir && E:\biocbuild\bbs-3.19-bioc\R\bin\R.exe CMD INSTALL --build --library=iPAC.buildbin-libdir iPAC_1.48.0.tar.gz StartedAt: 2024-10-17 08:00:05 -0400 (Thu, 17 Oct 2024) EndedAt: 2024-10-17 08:00:22 -0400 (Thu, 17 Oct 2024) EllapsedTime: 17.1 seconds RetCode: 0 Status: OK PackageFile: iPAC_1.48.0.zip PackageFileSize: 392.9 KiB