Package: iSEEde Version: 1.2.0 Command: /Library/Frameworks/R.framework/Resources/bin/R CMD INSTALL iSEEde StartedAt: 2024-10-16 17:35:37 -0400 (Wed, 16 Oct 2024) EndedAt: 2024-10-16 17:36:16 -0400 (Wed, 16 Oct 2024) EllapsedTime: 38.9 seconds RetCode: 0 Status: OK