Package: iSEEde Version: 1.2.0 Command: rm -rf iSEEde.buildbin-libdir && mkdir iSEEde.buildbin-libdir && /Users/biocbuild/BBS/utils/build-universal.sh iSEEde_1.2.0.tar.gz /Library/Frameworks/R.framework/Resources/bin/R iSEEde.buildbin-libdir StartedAt: 2024-06-11 11:44:06 -0400 (Tue, 11 Jun 2024) EndedAt: 2024-06-11 11:45:21 -0400 (Tue, 11 Jun 2024) EllapsedTime: 74.7 seconds RetCode: 0 Status: OK PackageFile: iSEEde_1.2.0.tgz PackageFileSize: 2.417 MiB