Package: iSEEde Version: 1.2.0 Command: /Library/Frameworks/R.framework/Resources/bin/R CMD INSTALL iSEEde StartedAt: 2024-06-09 15:23:02 -0400 (Sun, 09 Jun 2024) EndedAt: 2024-06-09 15:23:44 -0400 (Sun, 09 Jun 2024) EllapsedTime: 42.4 seconds RetCode: 0 Status: OK