Package: iSEEde Version: 1.2.0 Command: /Library/Frameworks/R.framework/Resources/bin/R CMD build --keep-empty-dirs --no-resave-data iSEEde StartedAt: 2024-10-16 20:15:46 -0400 (Wed, 16 Oct 2024) EndedAt: 2024-10-16 20:20:29 -0400 (Wed, 16 Oct 2024) EllapsedTime: 282.8 seconds RetCode: 0 Status: OK PackageFile: iSEEde_1.2.0.tar.gz PackageFileSize: 3.089 MiB