Package: iSEEde Version: 1.2.0 Command: /Library/Frameworks/R.framework/Resources/bin/R CMD INSTALL iSEEde StartedAt: 2024-10-16 16:07:13 -0400 (Wed, 16 Oct 2024) EndedAt: 2024-10-16 16:08:29 -0400 (Wed, 16 Oct 2024) EllapsedTime: 75.6 seconds RetCode: 0 Status: OK