Package: iSEEde Version: 1.2.0 Command: chmod a+r iSEEde -R && F:\biocbuild\bbs-3.19-bioc\R\bin\R.exe CMD build --keep-empty-dirs --no-resave-data iSEEde StartedAt: 2024-06-26 19:38:17 -0400 (Wed, 26 Jun 2024) EndedAt: 2024-06-26 19:40:42 -0400 (Wed, 26 Jun 2024) EllapsedTime: 145.1 seconds RetCode: 0 Status: OK PackageFile: iSEEde_1.2.0.tar.gz PackageFileSize: 3.09 MiB