Package: iSEEde Version: 1.2.0 Command: chmod a+r iSEEde -R && E:\biocbuild\bbs-3.19-bioc\R\bin\R.exe CMD build --keep-empty-dirs --no-resave-data iSEEde StartedAt: 2024-10-16 19:53:03 -0400 (Wed, 16 Oct 2024) EndedAt: 2024-10-16 19:55:22 -0400 (Wed, 16 Oct 2024) EllapsedTime: 138.7 seconds RetCode: 0 Status: OK PackageFile: iSEEde_1.2.0.tar.gz PackageFileSize: 3.091 MiB