Package: iSEEfier Version: 1.0.0 Command: rm -rf iSEEfier.buildbin-libdir && mkdir iSEEfier.buildbin-libdir && /Users/biocbuild/BBS/utils/build-universal.sh iSEEfier_1.0.0.tar.gz /Library/Frameworks/R.framework/Resources/bin/R iSEEfier.buildbin-libdir StartedAt: 2024-10-18 19:03:58 -0400 (Fri, 18 Oct 2024) EndedAt: 2024-10-18 19:04:40 -0400 (Fri, 18 Oct 2024) EllapsedTime: 41.8 seconds RetCode: 0 Status: OK PackageFile: iSEEfier_1.0.0.tgz PackageFileSize: 525.2 KiB