Package: iSEEfier Version: 1.0.0 Command: /Library/Frameworks/R.framework/Resources/bin/R CMD build --keep-empty-dirs --no-resave-data iSEEfier StartedAt: 2024-10-17 03:00:05 -0400 (Thu, 17 Oct 2024) EndedAt: 2024-10-17 03:01:44 -0400 (Thu, 17 Oct 2024) EllapsedTime: 99.9 seconds RetCode: 0 Status: OK PackageFile: iSEEfier_1.0.0.tar.gz PackageFileSize: 498.1 KiB