Package: iSEEfier Version: 1.0.0 Command: /home/biocbuild/R/R-beta-2024-04-15_r86425/bin/R CMD build --keep-empty-dirs --no-resave-data iSEEfier StartedAt: 2024-05-09 01:10:02 -0000 (Thu, 09 May 2024) EndedAt: 2024-05-09 01:11:47 -0000 (Thu, 09 May 2024) EllapsedTime: 105.1 seconds RetCode: 0 Status: OK PackageFile: iSEEfier_1.0.0.tar.gz PackageFileSize: 446.7 KiB