Package: iSEEfier Version: 1.0.0 Command: /Library/Frameworks/R.framework/Resources/bin/R CMD INSTALL iSEEfier StartedAt: 2024-06-09 15:29:36 -0400 (Sun, 09 Jun 2024) EndedAt: 2024-06-09 15:30:14 -0400 (Sun, 09 Jun 2024) EllapsedTime: 37.3 seconds RetCode: 0 Status: OK